BEGIN:VCALENDAR
VERSION:2.0
PRODID:-//wp-events-plugin.com//7.2.3.1//EN
TZID:Europe/Zurich
X-WR-TIMEZONE:Europe/Zurich
BEGIN:VEVENT
UID:168@levatrici-maieutica.ch
DTSTART;TZID=Europe/Zurich:20241118T130000
DTEND;TZID=Europe/Zurich:20241118T143000
DTSTAMP:20241014T074838Z
URL:https://levatrici-maieutica.ch/events/tea-time-maieutica-6/
SUMMARY:Tea Time Maieutica
DESCRIPTION:Incontro per famiglie\, un momento di scambio e di condivisione
 \, per socializzare.\nOffriamo un punto d'incontro accompagnato da tisane 
 e dolcetti indifferente se in gravidanza o dopo il parto.\n\nVi saranno pr
 esenti due levatrici per potervi sostenere in caso di bisogno o potervi in
 dirizzare nel caso abbiate domande o necessità di un consulto.\n\nÈ grad
 ita l'iscrizione entro il 14 novembre 2024.\nIn caso di domande rimaniamo 
 disponibili per e-mail o telefonicamente.
CATEGORIES:Gravidanza,incontro,Post-parto
END:VEVENT
BEGIN:VTIMEZONE
TZID:Europe/Zurich
X-LIC-LOCATION:Europe/Zurich
BEGIN:STANDARD
DTSTART:20241027T020000
TZOFFSETFROM:+0200
TZOFFSETTO:+0100
TZNAME:CET
END:STANDARD
END:VTIMEZONE
END:VCALENDAR